BEGIN:VCALENDAR
VERSION:2.0
PRODID:-//wp-events-plugin.com//7.2.3.1//EN
TZID:America/Sao_Paulo
X-WR-TIMEZONE:America/Sao_Paulo
BEGIN:VEVENT
UID:7@befreetravelling.com.br
DTSTART;TZID=America/Sao_Paulo:20241113T000000
DTEND;TZID=America/Sao_Paulo:20241114T000000
DTSTAMP:20240416T203214Z
URL:https://befreetravelling.com.br/eventos/20a-conferencia-internacional-
 de-negocios-y-turismo-lgbtiq/
SUMMARY:20ª Conferencia Internacional de Negocios y Turismo LGBTIQ+
DESCRIPTION:Um dos encontros mais tradicionais do segmento LGBT\, a 20ª Co
 nferencia Internacional de Negocios y Turismo LGBTIQ+ acontece em Madri\, 
 na Espanha\, entre os dias 13 e 14 de novembro. A escolha do destino refle
 te o interesse de estreitar laços com a América Latina\, o que torna a C
 onferência uma das mais importantes do mundo.
ATTACH;FMTTYPE=image/jpeg:https://befreetravelling.com.br/wp-content/uploa
 ds/2024/04/20a-Conferencia-Internacional-de-Negocios-y-Turismo-LGBTIQ.jpg
END:VEVENT
BEGIN:VTIMEZONE
TZID:America/Sao_Paulo
X-LIC-LOCATION:America/Sao_Paulo
BEGIN:STANDARD
DTSTART:20231114T000000
TZOFFSETFROM:-0300
TZOFFSETTO:-0300
TZNAME:-03
END:STANDARD
END:VTIMEZONE
END:VCALENDAR